BEGIN:VCALENDAR
VERSION:2.0
PRODID:-//ChamberMaster//Event Calendar 2.0//EN
METHOD:PUBLISH
X-PUBLISHED-TTL:P3D
REFRESH-INTERVAL:P3D
CALSCALE:GREGORIAN
BEGIN:VEVENT
DTSTART:20150325T180000Z
DTEND:20150325T210000Z
X-MICROSOFT-CDO-ALLDAYEVENT:FALSE
SUMMARY:Speed Networking Sponsored by MedExpress
DESCRIPTION:GET CONNECTED - GET TALKING - GET NETWORKING\n\nNetworking is just that...working! Pick up a handful of business cards and finish your workday with us. Speed Networking is a structured\, efficient and fast-paced event where participants have the opportunity to speak face-to-face with 24-35 other business representatives\, sitting at tables in groups of five\, three minutes at a time.  It is good for experienced and nervous networkers alike and we guarantee that you will meet more people that you typically do during the same amount of time in an unstructured setting. \n\nIf you plan to attend Speed Networking\, you MUST RSVP and plan on staying the entire time. The program will begin promptly at 2:30 pm. PLEASE ARRIVE BEFORE THE PROGRAM BEGINS. Late arrivals will not be able to participate.\n\nLimit: 1 person per company. \n\nRegistration: Seating is limited to 35. Please pre-pay and pre-register to reserve your seat.  \n\nThe Jackson County Chamber of Commerce is a convener\, advocate and supporter of business. This is an opportunity to build business contacts\, make brief presentations\, and schedule appointments with potential business partners throughout our community.
X-ALT-DESC;FMTTYPE=text/html:<p class="MsoNormal" style="MARGIN: 0in 0in 10pt"><span style="FONT-FAMILY: Arial"><font face="Calibri">GET CONNECTED - GET TALKING - GET NETWORKING</font></span></p>\n\n<p class="MsoNormal" style="MARGIN: 0in 0in 10pt"><span style="FONT-FAMILY: Arial"><font face="Calibri">Networking is just that...working! Pick up a handful of business cards and finish your workday with us. Speed Networking is a structured\, efficient and fast-paced event where participants have the opportunity to speak face-to-face with 24-35 other business representatives\, sitting at tables in groups of five\, three minutes at a time.<span style="mso-spacerun: yes">&nbsp\; </span>It is good for experienced and nervous networkers alike and we guarantee that you will meet more people that you typically do during the same amount of time in an unstructured setting. </font></span></p>\n\n<p class="MsoNormal" style="MARGIN: 0in 0in 10pt"><span style="FONT-FAMILY: Arial"><font face="Calibri">If you plan to attend Speed Networking\, you MUST RSVP and plan on staying the entire time. The program will begin promptly at 2:30 pm. <font color="#ff0000">PLEASE ARRIVE BEFORE THE PROGRAM BEGINS</font>. Late arrivals will not be able to participate.</font></span></p>\n\n<p class="MsoNormal" style="MARGIN: 0in 0in 10pt"><span style="FONT-FAMILY: Arial"><font face="Calibri"><strong>Limit:&nbsp\;1&nbsp\;person per company. </strong></font><br />\n<font face="Calibri"><strong>Registration: Seating is limited to 35. Please pre-pay and pre-register to reserve your seat.<span style="mso-spacerun: yes">&nbsp\; </span></strong></font></span></p>\n\n<p class="MsoNormal" style="MARGIN: 0in 0in 10pt"><span style="FONT-FAMILY: Arial"><font face="Calibri">The Jackson County Chamber of Commerce is a convener\, advocate and supporter of business. This is an opportunity to build business contacts\, make brief presentations\, and schedule appointments with potential business partners throughout our community.</font><!--?xml:namespace prefix = "o" ns = "urn:schemas-microsoft-com:office:office" /--><o:p></o:p></span></p>\n
LOCATION:Olive Garden Italian Restaurant
UID:e.2258.702
SEQUENCE:3
DTSTAMP:20260424T022215Z
URL:http://jacksonchambermi.chambermaster.com/events/details/speed-networking-sponsored-by-medexpress-03-25-2015-702
END:VEVENT

END:VCALENDAR
