BEGIN:VCALENDAR
VERSION:2.0
PRODID:-//ChamberMaster//Event Calendar 2.0//EN
METHOD:PUBLISH
X-PUBLISHED-TTL:P3D
REFRESH-INTERVAL:P3D
CALSCALE:GREGORIAN
BEGIN:VEVENT
DTSTART:20161014T160000Z
DTEND:20161014T160000Z
X-MICROSOFT-CDO-ALLDAYEVENT:FALSE
SUMMARY:Ribbon Cutting for Gilbert Chocolates
DESCRIPTION:Ribbon Cutting for the new downtown Jackson location of Gilbert Chocolates!\n\nCutting at Noon
X-ALT-DESC;FMTTYPE=text/html:Ribbon Cutting for the new downtown Jackson location of Gilbert&nbsp\;Chocolates!<br />\nCutting at Noon
LOCATION:
UID:e.2258.4391
SEQUENCE:3
DTSTAMP:20260421T004703Z
URL:http://jacksonchambermi.chambermaster.com/events/details/ribbon-cutting-for-gilbert-chocolates-4391
END:VEVENT

END:VCALENDAR
