BEGIN:VCALENDAR
VERSION:2.0
PRODID:-//ChamberMaster//Event Calendar 2.0//EN
METHOD:PUBLISH
X-PUBLISHED-TTL:P3D
REFRESH-INTERVAL:P3D
CALSCALE:GREGORIAN
BEGIN:VEVENT
DTSTART:20150925T200000Z
DTEND:20150925T210000Z
X-MICROSOFT-CDO-ALLDAYEVENT:FALSE
SUMMARY:Panda Express
DESCRIPTION:
X-ALT-DESC;FMTTYPE=text/html:
LOCATION:
UID:e.2258.4071
SEQUENCE:3
DTSTAMP:20260421T203800Z
URL:http://jacksonchambermi.chambermaster.com/events/details/panda-express-09-25-2015-4071
END:VEVENT

END:VCALENDAR
