BEGIN:VCALENDAR
VERSION:2.0
PRODID:-//ChamberMaster//Event Calendar 2.0//EN
METHOD:PUBLISH
X-PUBLISHED-TTL:P3D
REFRESH-INTERVAL:P3D
CALSCALE:GREGORIAN
BEGIN:VEVENT
DTSTART:20150902T120000Z
DTEND:20150902T140000Z
X-MICROSOFT-CDO-ALLDAYEVENT:FALSE
SUMMARY:2015-2016 Leadership Jackson
DESCRIPTION:Leadership Jackson program is designed to enhance leadership skills for individual growth\, organizational improvement and increased community effectiveness.\n\n\n\nSee the Graduation video produced by JTV\n\nhttps://vimeo.com/124870304\n\nLeadership Jackson takes place on the 1st and 3rd Wednesdays of each month from September to March with graduation in April. The classes are from 8 - 10 am at the Baker College Welcome Center (day and time are subject to change). Light breakfast provided by McDonalds and coffee are provided during each session.
X-ALT-DESC;FMTTYPE=text/html:<p style="color: rgb(72\, 72\, 72)\; font-family: Verdana\, Arial\, Tahoma\, sans-serif\; font-size: 12px\; line-height: 21.6000003814697px\;">Leadership&nbsp\;Jackson program is designed to enhance leadership skills for individual growth\, organizational improvement and increased community effectiveness.<br />\n<br />\nSee the Graduation video produced by JTV<br />\n<a href="https://vimeo.com/124870304" style="color: rgb(0\, 66\, 76)\;">https://vimeo.com/124870304</a></p>\n\n<p style="color: rgb(72\, 72\, 72)\; font-family: Verdana\, Arial\, Tahoma\, sans-serif\; font-size: 12px\; line-height: 21.6000003814697px\;">Leadership&nbsp\;Jackson takes place on the 1st and 3rd Wednesdays of each month from September to March with graduation in April. The classes are from 8 - 10 am at the Baker College Welcome Center (day and time are subject to change). Light breakfast provided by McDonalds and coffee are provided during each session.</p>\n
LOCATION:Baker College Welcome Center
UID:e.2258.705
SEQUENCE:3
DTSTAMP:20260423T163335Z
URL:http://jacksonchambermi.chambermaster.com/events/details/2015-2016-leadership-jackson-09-02-2015-705
END:VEVENT

END:VCALENDAR
